BEGIN:VCALENDAR
VERSION:2.0
PRODID:-//eventon.com NONSGML v1.0//EN
CALSCALE:GREGORIAN
METHOD:PUBLISH
BEGIN:VEVENT
UID:69ece3ac5ac10
DTSTAMP:20260425T155420Z
DTSTART:20260317T193000Z
DTEND:20260317T203000Z
LOCATION:Zwembad Sonsbeeck Pieter-Christiaanstraat 2\,  Breda
SUMMARY:Volwassenentraining
DESCRIPTION:De volwassenen van Duikteam Dusky trainen iedere dinsdag van 20
 .30 tot 21.30 uur in zwembad Sonsbeeck. Daarbij wordt er door het trainings
 team wekelijks een leuke training georganiseerd waarbij je lekker aan de sl
 ag kunt om je conditie te verbeteren. Zij zijn bereikbaar via trainingsteam
 sonsbeeck@dusky.nl.&nbsp; Ook wordt het uur door de[..]\nhttps://dusky.nl/a
 genda/volwassenentraining/var/ri-44.l-L1
URL:https://dusky.nl/agenda/volwassenentraining/var/ri-44.l-L1
END:VEVENT
END:VCALENDAR