BEGIN:VCALENDAR
VERSION:2.0
PRODID:-//eventon.com NONSGML v1.0//EN
CALSCALE:GREGORIAN
METHOD:PUBLISH
BEGIN:VEVENT
UID:69e73bed03fcd
DTSTAMP:20260421T085717Z
DTSTART:20240401T080000Z
DTEND:20240401T110000Z
LOCATION:
SUMMARY:Dreischor het Gemaal
DESCRIPTION:Clubduik bij Dreischor het Gemaal (Grevelingen)\,  verzamelen o
 m 10.00 uur op de duikstek. Aanmelden bij de duikcoaches via de app of mail
 . duikcoach@dusky.nl\nhttps://dusky.nl/agenda/dreischor-het-gemaal/
URL:https://dusky.nl/agenda/dreischor-het-gemaal/
END:VEVENT
END:VCALENDAR