BEGIN:VCALENDAR
VERSION:2.0
PRODID:-//eventon.com NONSGML v1.0//EN
CALSCALE:GREGORIAN
METHOD:PUBLISH
BEGIN:VEVENT
UID:69e70fe80db44
DTSTAMP:20260421T054928Z
DTSTART:20241027T090000Z
DTEND:20241027T113000Z
LOCATION:Strijenham Polderdijk\,  Poortvliet
SUMMARY:Strijenham
DESCRIPTION:Clubduik bij Strijenham (Oosterschelde) stromingsduik\,  briefi
 ng om 10.00 uur bij de duikstek. Aanmelden bij de duikcoaches via de app of
  mail. duikcoach@dusky.nl\nhttps://dusky.nl/agenda/strijenham-2/
URL:https://dusky.nl/agenda/strijenham-2/
END:VEVENT
END:VCALENDAR