BEGIN:VCALENDAR
VERSION:2.0
PRODID:-//eventon.com NONSGML v1.0//EN
CALSCALE:GREGORIAN
METHOD:PUBLISH
BEGIN:VEVENT
UID:69e73bd3582f0
DTSTAMP:20260421T085651Z
DTSTART:20250708T173000Z
DTEND:20250708T183000Z
LOCATION:Zwembad Sonsbeeck Pieter-Christiaanstraat 2\,  Breda
SUMMARY:Zomer zwemmen
DESCRIPTION:Ook in de zomer kunnen de Dusky leden dit jaar lekker door blij
 ven zwemmen. Op de dinsdagen kunnen we in het Sonsbeeck terecht\,  een uurt
 je eerder dan we gewend zijn van 19.30-20.30.&nbsp;\nhttps://dusky.nl/agend
 a/zomer-zwemmen-2/
URL:https://dusky.nl/agenda/zomer-zwemmen-2/
END:VEVENT
END:VCALENDAR