BEGIN:VCALENDAR
VERSION:2.0
PRODID:-//eventon.com NONSGML v1.0//EN
CALSCALE:GREGORIAN
METHOD:PUBLISH
BEGIN:VEVENT
UID:69e750771a86e
DTSTAMP:20260421T102455Z
DTSTART:20260306T191500Z
DTEND:20260306T211500Z
LOCATION:Zwembad De Wisselaar Terheijdenseweg 494\,  Breda
SUMMARY:Extra uur zwembad - redding vaardigheden
DESCRIPTION:Vanavond hebben een extra uur zwembad.\nhttps://dusky.nl/agenda
 /extra-uur-zwembad-redding-vaardigheden/
URL:https://dusky.nl/agenda/extra-uur-zwembad-redding-vaardigheden/
END:VEVENT
END:VCALENDAR