BEGIN:VCALENDAR
VERSION:2.0
PRODID:-//eventon.com NONSGML v1.0//EN
CALSCALE:GREGORIAN
METHOD:PUBLISH
BEGIN:VEVENT
UID:69e754c53e9fe
DTSTAMP:20260421T104317Z
DTSTART:20260410T181500Z
DTEND:20260410T201500Z
LOCATION:Zwembad De Wisselaar Terheijdenseweg 494\,  Breda
SUMMARY:Extra uur zwembad
DESCRIPTION:Vanavond hebben we een extra uur zwembad.\nhttps://dusky.nl/age
 nda/extra-uur-zwembad-4/
URL:https://dusky.nl/agenda/extra-uur-zwembad-4/
END:VEVENT
END:VCALENDAR