BEGIN:VCALENDAR
VERSION:2.0
PRODID:-//eventon.com NONSGML v1.0//EN
CALSCALE:GREGORIAN
METHOD:PUBLISH
BEGIN:VEVENT
UID:69e73f9c096d8
DTSTAMP:20260421T091300Z
DTSTART:20260508T181500Z
DTEND:20260508T201500Z
LOCATION:Zwembad De Wisselaar Terheijdenseweg 494\,  Breda
SUMMARY:Extra uur zwembad
DESCRIPTION:Vanavond hebben een extra uur zwembad.\nhttps://dusky.nl/agenda
 /extra-uur-zwembad-5/
URL:https://dusky.nl/agenda/extra-uur-zwembad-5/
END:VEVENT
END:VCALENDAR